BEGIN:VCALENDAR
VERSION:2.0
PRODID:icalendar-ruby
CALSCALE:GREGORIAN
METHOD:PUBLISH
BEGIN:VEVENT
DTSTAMP:20260420T050823Z
UID:162-1795048@cccoc.ca
DTSTART:20260828T000000Z
DTEND:20260831T180000Z
CLASS:PUBLIC
CREATED:20260414T224403
DESCRIPTION:The camp is organized by Chris and Lesa Stringer\, with support
  from a committee of students and young professionals from across Canada. 
 It is hosted by the Edmonton Church.\nSpots are limited\, so be sure to re
 gister early and don’t miss this opportunity to be part of something spe
 cial.
LAST-MODIFIED:20260414T224403
LOCATION:Gladstone Mountain Ranch and Conference Centre
SUMMARY:Fan Into Flame
URL;VALUE=URI:https://capitalcitychurchofchrist.ca/events/fan-into-flame/20
 26-08-27
ATTACH;FILENAME=Fan into Flame YoPro 2026 2.png;FMTTYPE=image/png:https://d
 q5pwpg1q8ru0.cloudfront.net/2026/04/11/06/03/08/13d5959a-8271-4252-89ad-d6
 ecdd38a3b6/Fan%20into%20Flame%20YoPro%202026%202.png
END:VEVENT
END:VCALENDAR
